BEGIN:VCALENDAR
VERSION:2.0
PRODID:-//Utica United Methodist Church - ECPv6.15.20//NONSGML v1.0//EN
CALSCALE:GREGORIAN
METHOD:PUBLISH
X-WR-CALNAME:Utica United Methodist Church
X-ORIGINAL-URL:https://uticaumc.org
X-WR-CALDESC:Events for Utica United Methodist Church
REFRESH-INTERVAL;VALUE=DURATION:PT1H
X-Robots-Tag:noindex
X-PUBLISHED-TTL:PT1H
BEGIN:VTIMEZONE
TZID:America/Detroit
BEGIN:DAYLIGHT
TZOFFSETFROM:-0500
TZOFFSETTO:-0400
TZNAME:EDT
DTSTART:20250309T070000
END:DAYLIGHT
BEGIN:STANDARD
TZOFFSETFROM:-0400
TZOFFSETTO:-0500
TZNAME:EST
DTSTART:20251102T060000
END:STANDARD
BEGIN:DAYLIGHT
TZOFFSETFROM:-0500
TZOFFSETTO:-0400
TZNAME:EDT
DTSTART:20260308T070000
END:DAYLIGHT
BEGIN:STANDARD
TZOFFSETFROM:-0400
TZOFFSETTO:-0500
TZNAME:EST
DTSTART:20261101T060000
END:STANDARD
BEGIN:DAYLIGHT
TZOFFSETFROM:-0500
TZOFFSETTO:-0400
TZNAME:EDT
DTSTART:20270314T070000
END:DAYLIGHT
BEGIN:STANDARD
TZOFFSETFROM:-0400
TZOFFSETTO:-0500
TZNAME:EST
DTSTART:20271107T060000
END:STANDARD
END:VTIMEZONE
BEGIN:VEVENT
DTSTART;TZID=America/Detroit:20260323T191500
DTEND;TZID=America/Detroit:20260323T201500
DTSTAMP:20260420T125440
CREATED:20251223T143720Z
LAST-MODIFIED:20260219T180944Z
UID:24049-1774293300-1774296900@uticaumc.org
SUMMARY:Into the Word Bible Study
DESCRIPTION:
URL:https://uticaumc.org/event/into-the-word-bible-study-64/
LOCATION:Conference Room\, MI\, United States
END:VEVENT
BEGIN:VEVENT
DTSTART;TZID=America/Detroit:20260323T184500
DTEND;TZID=America/Detroit:20260323T194000
DTSTAMP:20260420T125440
CREATED:20251223T143719Z
LAST-MODIFIED:20260219T180944Z
UID:24046-1774291500-1774294800@uticaumc.org
SUMMARY:Chancel Choir
DESCRIPTION:
URL:https://uticaumc.org/event/chancel-choir-21/
LOCATION:Music Room
END:VEVENT
BEGIN:VEVENT
DTSTART;TZID=America/Detroit:20260323T183000
DTEND;TZID=America/Detroit:20260323T200000
DTSTAMP:20260420T125440
CREATED:20251223T143720Z
LAST-MODIFIED:20260219T180944Z
UID:24048-1774290600-1774296000@uticaumc.org
SUMMARY:Troop 80 Scout Meeting
DESCRIPTION:
URL:https://uticaumc.org/event/troop-80-scout-meeting-162/
LOCATION:Fellowship Hall\, 8650 Canal Road\, Sterling Heights\, MI\, 48314\, United States
END:VEVENT
BEGIN:VEVENT
DTSTART;TZID=America/Detroit:20260323T183000
DTEND;TZID=America/Detroit:20260323T194500
DTSTAMP:20260420T125440
CREATED:20251223T143720Z
LAST-MODIFIED:20260219T180944Z
UID:24050-1774290600-1774295100@uticaumc.org
SUMMARY:Cub Dens Parent Meeting
DESCRIPTION:
URL:https://uticaumc.org/event/cub-dens-parent-meeting-38/
LOCATION:Room 106
END:VEVENT
BEGIN:VEVENT
DTSTART;TZID=America/Detroit:20260323T100000
DTEND;TZID=America/Detroit:20260323T110000
DTSTAMP:20260420T125440
CREATED:20251223T143719Z
LAST-MODIFIED:20260219T180944Z
UID:24044-1774260000-1774263600@uticaumc.org
SUMMARY:Chair Exercise - Room 301
DESCRIPTION:
URL:https://uticaumc.org/event/chair-exercise-room-301-323/
END:VEVENT
BEGIN:VEVENT
DTSTART;TZID=America/Detroit:20260322T160000
DTEND;TZID=America/Detroit:20260322T193000
DTSTAMP:20260420T125440
CREATED:20260112T175905Z
LAST-MODIFIED:20260312T171846Z
UID:24206-1774195200-1774207800@uticaumc.org
SUMMARY:Chili/Soup/Dessert Cookoff
DESCRIPTION:
URL:https://uticaumc.org/event/chili-soup-dessert-cookoff-3/
LOCATION:Fellowship Hall\, 8650 Canal Road\, Sterling Heights\, MI\, 48314\, United States
END:VEVENT
BEGIN:VEVENT
DTSTART;TZID=America/Detroit:20260322T110000
DTEND;TZID=America/Detroit:20260322T120000
DTSTAMP:20260420T125440
CREATED:20251223T143719Z
LAST-MODIFIED:20260219T180944Z
UID:24043-1774177200-1774180800@uticaumc.org
SUMMARY:Worship - Fellowship Hall
DESCRIPTION:
URL:https://uticaumc.org/event/worship-fellowship-hall-173/
LOCATION:Band Led Service
END:VEVENT
BEGIN:VEVENT
DTSTART;TZID=America/Detroit:20260322T110000
DTEND;TZID=America/Detroit:20260322T120000
DTSTAMP:20260420T125440
CREATED:20251223T143718Z
LAST-MODIFIED:20260219T180944Z
UID:24042-1774177200-1774180800@uticaumc.org
SUMMARY:Children's Sunday School
DESCRIPTION:
URL:https://uticaumc.org/event/childrens-sunday-school-334/
LOCATION:Room 302
END:VEVENT
BEGIN:VEVENT
DTSTART;TZID=America/Detroit:20260322T093000
DTEND;TZID=America/Detroit:20260322T103000
DTSTAMP:20260420T125440
CREATED:20251223T143718Z
LAST-MODIFIED:20260219T180944Z
UID:24041-1774171800-1774175400@uticaumc.org
SUMMARY:Children's Sunday School
DESCRIPTION:
URL:https://uticaumc.org/event/childrens-sunday-school-333/
LOCATION:Room 305
END:VEVENT
BEGIN:VEVENT
DTSTART;TZID=America/Detroit:20260322T093000
DTEND;TZID=America/Detroit:20260322T103000
DTSTAMP:20260420T125440
CREATED:20251223T143718Z
LAST-MODIFIED:20260219T180943Z
UID:24039-1774171800-1774175400@uticaumc.org
SUMMARY:Worship - Sanctuary
DESCRIPTION:
URL:https://uticaumc.org/event/worship-sanctuary-161/
END:VEVENT
BEGIN:VEVENT
DTSTART;TZID=America/Detroit:20260322T093000
DTEND;TZID=America/Detroit:20260322T103000
DTSTAMP:20260420T125440
CREATED:20251223T143718Z
LAST-MODIFIED:20260219T180943Z
UID:24040-1774171800-1774175400@uticaumc.org
SUMMARY:Youth Sunday School
DESCRIPTION:
URL:https://uticaumc.org/event/youth-sunday-school-115/
LOCATION:Room 106
END:VEVENT
BEGIN:VEVENT
DTSTART;TZID=America/Detroit:20260321T103000
DTEND;TZID=America/Detroit:20260321T123000
DTSTAMP:20260420T125440
CREATED:20251223T143717Z
LAST-MODIFIED:20260219T180943Z
UID:24037-1774089000-1774096200@uticaumc.org
SUMMARY:UM Men's Group Mtg.
DESCRIPTION:
URL:https://uticaumc.org/event/um-mens-group-mtg-40/
LOCATION:Room 104
END:VEVENT
BEGIN:VEVENT
DTSTART;TZID=America/Detroit:20260320T170000
DTEND;TZID=America/Detroit:20260321T140000
DTSTAMP:20260420T125440
CREATED:20251223T143718Z
LAST-MODIFIED:20260219T180943Z
UID:24038-1774026000-1774101600@uticaumc.org
SUMMARY:Scout Lock-in
DESCRIPTION:
URL:https://uticaumc.org/event/scout-lock-in/
LOCATION:Fellowship Hall/Kitchen
END:VEVENT
END:VCALENDAR